BEGIN:VCALENDAR
VERSION:2.0
PRODID:SchoolNow
CALSCALE:GREGORIAN
BEGIN:VEVENT
UID:f23bc132-2fa2-11f1-84df-027959088601
DTSTAMP:20260423T215114Z
SUMMARY:9th Grade Honors Biology Field Trip
LOCATION:West Chester University
URL;VALUE=URI:https://www.rak12.org/calendar/8969203/9th-grade-honors-biolo
 gy-field-trip
DTSTART:20260605T121500Z
DTEND:20260605T181500Z
END:VEVENT
END:VCALENDAR
