BEGIN:VCALENDAR
VERSION:2.0
PRODID:SchoolNow
CALSCALE:GREGORIAN
BEGIN:VEVENT
UID:f257be96-2fa2-11f1-bb48-027959088601
DTSTAMP:20260421T090128Z
SUMMARY:Post prom Set up
LOCATION:Upper School
URL;VALUE=URI:https://www.rak12.org/calendar/8969204/post-prom-set-up
DTSTART:20260516T130000Z
DTEND:20260516T230000Z
END:VEVENT
END:VCALENDAR
