BEGIN:VCALENDAR
VERSION:2.0
PRODID:SchoolNow
CALSCALE:GREGORIAN
BEGIN:VEVENT
UID:f269118c-2fa2-11f1-8f13-027959088601
DTSTAMP:20260421T090128Z
SUMMARY:Post Prom Set up
LOCATION:Upper School
URL;VALUE=URI:https://www.rak12.org/calendar/8969205/post-prom-set-up
DTSTART:20260515T210000Z
DTEND:20260516T030000Z
END:VEVENT
END:VCALENDAR
