BEGIN:VCALENDAR
VERSION:2.0
PRODID:SchoolNow
CALSCALE:GREGORIAN
BEGIN:VEVENT
UID:f27bb814-2fa2-11f1-b7cb-027959088601
DTSTAMP:20260421T090127Z
SUMMARY:Post Prom Event
LOCATION:Upper School
URL;VALUE=URI:https://www.rak12.org/calendar/8969206/post-prom-event
DTSTART:20260517T023000Z
DTEND:20260517T090000Z
END:VEVENT
END:VCALENDAR
