BEGIN:VCALENDAR
VERSION:2.0
PRODID:SchoolNow
CALSCALE:GREGORIAN
BEGIN:VEVENT
UID:27e47a5a-37a9-11f1-8858-0afffe39c031
DTSTAMP:20260423T234008Z
SUMMARY:Varsity Girls Soccer vs Academy Park High School (Scrimmage)
URL;VALUE=URI:https://www.rak12.org/calendar/8992202/varsity-girls-soccer-v
 s-academy-park-high-school-scrimmage
DTSTART:20260825T194500Z
DTEND:20260825T204500Z
END:VEVENT
END:VCALENDAR
