BEGIN:VCALENDAR
VERSION:2.0
PRODID:SchoolNow
CALSCALE:GREGORIAN
BEGIN:VEVENT
UID:27f177fa-37a9-11f1-b10a-0afffe39c031
DTSTAMP:20260423T234007Z
SUMMARY:Varsity Boys Soccer vs Academy Park High School
LOCATION:Beulah Heights St & Southwest Avenue Phoenixville\, PA 19460
URL;VALUE=URI:https://www.rak12.org/calendar/8992203/varsity-boys-soccer-vs
 -academy-park-high-school
DTSTART:20260925T194500Z
DTEND:20260925T204500Z
END:VEVENT
END:VCALENDAR
