BEGIN:VCALENDAR
VERSION:2.0
PRODID:SchoolNow
CALSCALE:GREGORIAN
BEGIN:VEVENT
UID:eab4a2ec-3832-11f1-af6d-0affcb035dbd
DTSTAMP:20260421T090129Z
SUMMARY:7th Grade Field Trip
LOCATION:Franklin Institute
URL;VALUE=URI:https://www.rak12.org/calendar/8993942/7th-grade-field-trip
DTSTART:20260514T123000Z
DTEND:20260514T180000Z
END:VEVENT
END:VCALENDAR
