BEGIN:VCALENDAR
VERSION:2.0
PRODID:SchoolNow
CALSCALE:GREGORIAN
BEGIN:VEVENT
UID:eab4a684-3832-11f1-84e7-0affcb035dbd
DTSTAMP:20260423T215115Z
SUMMARY:Basketball
LOCATION:US Gym
URL;VALUE=URI:https://www.rak12.org/calendar/8993943/basketball
DTSTART:20260416T223000Z
DTEND:20260417T003000Z
END:VEVENT
END:VCALENDAR
