BEGIN:VCALENDAR
VERSION:2.0
PRODID:SchoolNow
CALSCALE:GREGORIAN
BEGIN:VEVENT
UID:1e5d80ea-3875-11f1-8b15-0a58a9feac02
DTSTAMP:20260424T054508Z
SUMMARY:Varsity Girls Volleyball vs Sun Valley High School
URL;VALUE=URI:https://www.rak12.org/calendar/8994816/varsity-girls-volleyba
 ll-vs-sun-valley-high-school
DTSTART:20261012T223000Z
DTEND:20261012T233000Z
END:VEVENT
END:VCALENDAR
