BEGIN:VCALENDAR
VERSION:2.0
PRODID:SchoolNow
CALSCALE:GREGORIAN
BEGIN:VEVENT
UID:1e5d84dc-3875-11f1-bdd6-0a58a9feac02
DTSTAMP:20260424T054508Z
SUMMARY:Junior Varsity Girls Volleyball vs Sun Valley High School
URL;VALUE=URI:https://www.rak12.org/calendar/8994817/junior-varsity-girls-v
 olleyball-vs-sun-valley-high-school
DTSTART:20261012T210000Z
DTEND:20261012T220000Z
END:VEVENT
END:VCALENDAR
