BEGIN:VCALENDAR
VERSION:2.0
PRODID:SchoolNow
CALSCALE:GREGORIAN
BEGIN:VEVENT
UID:184f84bc-38db-11f1-8c21-02a4853c9a19
DTSTAMP:20260421T105009Z
SUMMARY:Middle School Boys Baseball @ Calvary Christian Academy
LOCATION:1400 Southhampton Road Philadelphia\, PA 19116
URL;VALUE=URI:https://www.rak12.org/calendar/8995895/middle-school-boys-bas
 eball-calvary-christian-academy
DTSTART:20260507T193000Z
DTEND:20260507T203000Z
END:VEVENT
END:VCALENDAR
