BEGIN:VCALENDAR
VERSION:2.0
PRODID:SchoolNow
CALSCALE:GREGORIAN
BEGIN:VEVENT
UID:fe11f99e-38fe-11f1-842d-0a58a9feac02
DTSTAMP:20260421T090129Z
SUMMARY:A Concert for the Young
LOCATION:Cafeteria
URL;VALUE=URI:https://www.rak12.org/calendar/8996498/a-concert-for-the-youn
 g
DTSTART:20260519T184000Z
DTEND:20260519T191000Z
END:VEVENT
END:VCALENDAR
