BEGIN:VCALENDAR
VERSION:2.0
PRODID:SchoolNow
CALSCALE:GREGORIAN
BEGIN:VEVENT
UID:fe11fd4a-38fe-11f1-89cd-0a58a9feac02
DTSTAMP:20260424T035604Z
SUMMARY:Knight School (1st-12th grades)
URL;VALUE=URI:https://www.rak12.org/calendar/8996499/knight-school-1st-12th
 -grades
DTSTART:20260813T130000Z
DTEND:20260813T160000Z
END:VEVENT
END:VCALENDAR
