BEGIN:VCALENDAR
VERSION:2.0
PRODID:SchoolNow
CALSCALE:GREGORIAN
BEGIN:VEVENT
UID:cb20d314-3a63-11f1-8a5f-0e360ea6c8e7
DTSTAMP:20260421T090129Z
SUMMARY:Board Development Committee
URL;VALUE=URI:https://www.rak12.org/calendar/9000939/board-development-comm
 ittee
DTSTART:20260511T220000Z
DTEND:20260511T225000Z
END:VEVENT
END:VCALENDAR
