BEGIN:VCALENDAR
VERSION:2.0
PRODID:SchoolNow
CALSCALE:GREGORIAN
BEGIN:VEVENT
UID:a7734322-3cfa-11f1-b726-0affd626685d
DTSTAMP:20260423T215115Z
SUMMARY:Senior Meeting
LOCATION:HS Flex
URL;VALUE=URI:https://www.rak12.org/calendar/9008052/senior-meeting
DTSTART:20260519T120000Z
DTEND:20260519T122000Z
END:VEVENT
END:VCALENDAR
