BEGIN:VCALENDAR
VERSION:2.0
PRODID:SchoolNow
CALSCALE:GREGORIAN
BEGIN:VEVENT
UID:e25b9d54-3d09-11f1-b92e-0238c42111eb
DTSTAMP:20260423T173508Z
SUMMARY:Varsity Girls Track & Field @ Penn Relays
URL;VALUE=URI:https://www.rak12.org/calendar/9008060/varsity-girls-track-fi
 eld-penn-relays
DTSTART:20260424T120000Z
DTEND:20260424T130000Z
END:VEVENT
END:VCALENDAR
