BEGIN:VCALENDAR
VERSION:2.0
PRODID:SchoolNow
CALSCALE:GREGORIAN
BEGIN:VEVENT
UID:a4eb18fc-3d93-11f1-be4d-02314a54f7bd
DTSTAMP:20260423T215115Z
SUMMARY:Financial Reality Fair Workshop
LOCATION:In middle school and high school classrooms
URL;VALUE=URI:https://www.rak12.org/calendar/9009585/financial-reality-fair
 -workshop
DTSTART:20260602T132500Z
DTEND:20260602T143000Z
END:VEVENT
END:VCALENDAR
