BEGIN:VCALENDAR
VERSION:2.0
PRODID:SchoolNow
CALSCALE:GREGORIAN
BEGIN:VEVENT
UID:a4eb39b8-3d93-11f1-b981-02314a54f7bd
DTSTAMP:20260424T035604Z
SUMMARY:Lottery Application Deadline
URL;VALUE=URI:https://www.rak12.org/calendar/9009586/lottery-application-de
 adline
DTSTART;VALUE=DATE:20261212
DTEND;VALUE=DATE:20261213
END:VEVENT
END:VCALENDAR
