BEGIN:VCALENDAR
VERSION:2.0
PRODID:SchoolNow
CALSCALE:GREGORIAN
BEGIN:VEVENT
UID:a4eb3b5c-3d93-11f1-a7aa-02314a54f7bd
DTSTAMP:20260423T215115Z
SUMMARY:Kindergarten Graduation Staging
LOCATION:Cafeteria
URL;VALUE=URI:https://www.rak12.org/calendar/9009587/kindergarten-graduatio
 n-staging
DTSTART:20260617T114000Z
DTEND:20260617T123000Z
END:VEVENT
END:VCALENDAR
