BEGIN:VCALENDAR
VERSION:2.0
PRODID:SchoolNow
CALSCALE:GREGORIAN
BEGIN:VEVENT
UID:a4eb3cf6-3d93-11f1-951e-02314a54f7bd
DTSTAMP:20260423T215115Z
SUMMARY:Kindergarten Trimester 3 Awards Ceremony
LOCATION:Cafeteria
URL;VALUE=URI:https://www.rak12.org/calendar/9009588/kindergarten-trimester
 -3-awards-ceremony
DTSTART:20260615T124000Z
DTEND:20260615T132000Z
END:VEVENT
END:VCALENDAR
