BEGIN:VCALENDAR
VERSION:2.0
PRODID:SchoolNow
CALSCALE:GREGORIAN
BEGIN:VEVENT
UID:a4eb3e4a-3d93-11f1-964a-02314a54f7bd
DTSTAMP:20260424T100114Z
SUMMARY:2027-2028 Enrollment Lottery
LOCATION:Virtual
URL;VALUE=URI:https://www.rak12.org/calendar/9009589/2027-2028-enrollment-l
 ottery
DTSTART:20270201T140000Z
DTEND:20270201T150000Z
END:VEVENT
END:VCALENDAR
