BEGIN:VCALENDAR
VERSION:2.0
PRODID:SchoolNow
CALSCALE:GREGORIAN
BEGIN:VEVENT
UID:a4eb3f62-3d93-11f1-8cd4-02314a54f7bd
DTSTAMP:20260424T035604Z
SUMMARY:Enrollment Application Opens
URL;VALUE=URI:https://www.rak12.org/calendar/9009590/enrollment-application
 -opens
DTSTART;VALUE=DATE:20260928
DTEND;VALUE=DATE:20260929
END:VEVENT
END:VCALENDAR
