BEGIN:VCALENDAR
VERSION:2.0
PRODID:SchoolNow
CALSCALE:GREGORIAN
BEGIN:VEVENT
UID:cddbb2d0-3ea1-11f1-a3f7-0ec8a6c586df
DTSTAMP:20260423T173508Z
SUMMARY:Varsity Boys Baseball vs Church Farm School
LOCATION:771 Wheatland Street Phoenixville\, PA 19460
URL;VALUE=URI:https://www.rak12.org/calendar/9012293/varsity-boys-baseball-
 vs-church-farm-school
DTSTART:20260424T191500Z
DTEND:20260424T201500Z
END:VEVENT
END:VCALENDAR
