BEGIN:VCALENDAR
VERSION:2.0
PRODID:SchoolNow
CALSCALE:GREGORIAN
BEGIN:VEVENT
UID:ce973a78-3ea1-11f1-b7e9-0ec8a6c586df
DTSTAMP:20260423T173508Z
SUMMARY:Varsity Boys Baseball  (Practice)
URL;VALUE=URI:https://www.rak12.org/calendar/9012294/varsity-boys-baseball-
 practice
DTSTART:20260422T193000Z
DTEND:20260422T203000Z
END:VEVENT
END:VCALENDAR
