BEGIN:VCALENDAR
VERSION:2.0
PRODID:SchoolNow
CALSCALE:GREGORIAN
BEGIN:VEVENT
UID:c5b17ce0-3f3a-11f1-868f-0a58a9feac02
DTSTAMP:20260423T173508Z
SUMMARY:Middle School Boys Baseball vs Plumstead Christian School
LOCATION:771 Wheatland Street Phoenixville\, PA 19460
URL;VALUE=URI:https://www.rak12.org/calendar/9013964/middle-school-boys-bas
 eball-vs-plumstead-christian-school
DTSTART:20260429T191500Z
DTEND:20260429T201500Z
END:VEVENT
END:VCALENDAR
